BEGIN:VCALENDAR
VERSION:2.0
PRODID:-//EFG Gerolstein - ECPv6.15.16//NONSGML v1.0//EN
CALSCALE:GREGORIAN
METHOD:PUBLISH
X-WR-CALNAME:EFG Gerolstein
X-ORIGINAL-URL:https://efg-gerolstein.de
X-WR-CALDESC:Veranstaltungen für EFG Gerolstein
REFRESH-INTERVAL;VALUE=DURATION:PT1H
X-Robots-Tag:noindex
X-PUBLISHED-TTL:PT1H
BEGIN:VTIMEZONE
TZID:Europe/Berlin
BEGIN:DAYLIGHT
TZOFFSETFROM:+0100
TZOFFSETTO:+0200
TZNAME:CEST
DTSTART:20260329T010000
END:DAYLIGHT
BEGIN:STANDARD
TZOFFSETFROM:+0200
TZOFFSETTO:+0100
TZNAME:CET
DTSTART:20261025T010000
END:STANDARD
BEGIN:DAYLIGHT
TZOFFSETFROM:+0100
TZOFFSETTO:+0200
TZNAME:CEST
DTSTART:20270328T010000
END:DAYLIGHT
BEGIN:STANDARD
TZOFFSETFROM:+0200
TZOFFSETTO:+0100
TZNAME:CET
DTSTART:20271031T010000
END:STANDARD
BEGIN:DAYLIGHT
TZOFFSETFROM:+0100
TZOFFSETTO:+0200
TZNAME:CEST
DTSTART:20280326T010000
END:DAYLIGHT
BEGIN:STANDARD
TZOFFSETFROM:+0200
TZOFFSETTO:+0100
TZNAME:CET
DTSTART:20281029T010000
END:STANDARD
END:VTIMEZONE
BEGIN:VEVENT
DTSTART;TZID=Europe/Berlin:20270103T103000
DTEND;TZID=Europe/Berlin:20270103T103000
DTSTAMP:20260421T070011
CREATED:20260117T204752Z
LAST-MODIFIED:20260117T204752Z
UID:2654-1798972200-1798972200@efg-gerolstein.de
SUMMARY:Gottesdienst mit Abendmahl
DESCRIPTION:
URL:https://efg-gerolstein.de/event/gottesdienst-2027/
LOCATION:Gemeinderäume\, Zum Sandborn 38a\, Gerolstein\, 54568\, Deutschland
CATEGORIES:Gottesdienst
END:VEVENT
BEGIN:VEVENT
DTSTART;TZID=Europe/Berlin:20270105T190000
DTEND;TZID=Europe/Berlin:20270105T190000
DTSTAMP:20260421T070011
CREATED:20260117T204953Z
LAST-MODIFIED:20260117T204953Z
UID:2664-1799175600-1799175600@efg-gerolstein.de
SUMMARY:Hauskreis in Steffeln
DESCRIPTION:
URL:https://efg-gerolstein.de/event/hauskreis-in-steffeln-2027/
LOCATION:Familie Weber\, Steffeln\, Hochstr. 4\, Steffeln\, 54597\, Deutschland
CATEGORIES:Hauskreis
END:VEVENT
BEGIN:VEVENT
DTSTART;TZID=Europe/Berlin:20270110T103000
DTEND;TZID=Europe/Berlin:20270110T103000
DTSTAMP:20260421T070011
CREATED:20260117T204825Z
LAST-MODIFIED:20260117T204825Z
UID:2656-1799577000-1799577000@efg-gerolstein.de
SUMMARY:Gottesdienst
DESCRIPTION:
URL:https://efg-gerolstein.de/event/gottesdienst-2027-1/
LOCATION:Gemeinderäume\, Zum Sandborn 38a\, Gerolstein\, 54568\, Deutschland
CATEGORIES:Gottesdienst
END:VEVENT
BEGIN:VEVENT
DTSTART;TZID=Europe/Berlin:20270117T103000
DTEND;TZID=Europe/Berlin:20270117T103000
DTSTAMP:20260421T070011
CREATED:20260117T204846Z
LAST-MODIFIED:20260117T204846Z
UID:2658-1800181800-1800181800@efg-gerolstein.de
SUMMARY:Gottesdienst
DESCRIPTION:
URL:https://efg-gerolstein.de/event/gottesdienst-2027-1-2/
LOCATION:Gemeinderäume\, Zum Sandborn 38a\, Gerolstein\, 54568\, Deutschland
CATEGORIES:Gottesdienst
END:VEVENT
BEGIN:VEVENT
DTSTART;TZID=Europe/Berlin:20270119T190000
DTEND;TZID=Europe/Berlin:20270119T190000
DTSTAMP:20260421T070011
CREATED:20260117T205027Z
LAST-MODIFIED:20260117T205027Z
UID:2666-1800385200-1800385200@efg-gerolstein.de
SUMMARY:Gebetsabend
DESCRIPTION:
URL:https://efg-gerolstein.de/event/gebetsabend-2027/
LOCATION:Gemeinderäume\, Zum Sandborn 38a\, Gerolstein\, 54568\, Deutschland
CATEGORIES:Gebet
END:VEVENT
BEGIN:VEVENT
DTSTART;TZID=Europe/Berlin:20270124T103000
DTEND;TZID=Europe/Berlin:20270124T103000
DTSTAMP:20260421T070011
CREATED:20260117T204905Z
LAST-MODIFIED:20260117T204905Z
UID:2660-1800786600-1800786600@efg-gerolstein.de
SUMMARY:Gottesdienst
DESCRIPTION:
URL:https://efg-gerolstein.de/event/gottesdienst-2027-1-2-2/
LOCATION:Gemeinderäume\, Zum Sandborn 38a\, Gerolstein\, 54568\, Deutschland
CATEGORIES:Gottesdienst
END:VEVENT
BEGIN:VEVENT
DTSTART;TZID=Europe/Berlin:20270131T103000
DTEND;TZID=Europe/Berlin:20270131T103000
DTSTAMP:20260421T070011
CREATED:20260117T204921Z
LAST-MODIFIED:20260117T204921Z
UID:2662-1801391400-1801391400@efg-gerolstein.de
SUMMARY:Gottesdienst
DESCRIPTION:
URL:https://efg-gerolstein.de/event/gottesdienst-2027-1-2-2-2/
LOCATION:Gemeinderäume\, Zum Sandborn 38a\, Gerolstein\, 54568\, Deutschland
CATEGORIES:Gottesdienst
END:VEVENT
END:VCALENDAR