BEGIN:VCALENDAR
VERSION:2.0
PRODID:-//EFG Gerolstein - ECPv6.15.16//NONSGML v1.0//EN
CALSCALE:GREGORIAN
METHOD:PUBLISH
X-WR-CALNAME:EFG Gerolstein
X-ORIGINAL-URL:https://efg-gerolstein.de
X-WR-CALDESC:Veranstaltungen für EFG Gerolstein
REFRESH-INTERVAL;VALUE=DURATION:PT1H
X-Robots-Tag:noindex
X-PUBLISHED-TTL:PT1H
BEGIN:VTIMEZONE
TZID:Europe/Berlin
BEGIN:DAYLIGHT
TZOFFSETFROM:+0100
TZOFFSETTO:+0200
TZNAME:CEST
DTSTART:20250330T010000
END:DAYLIGHT
BEGIN:STANDARD
TZOFFSETFROM:+0200
TZOFFSETTO:+0100
TZNAME:CET
DTSTART:20251026T010000
END:STANDARD
BEGIN:DAYLIGHT
TZOFFSETFROM:+0100
TZOFFSETTO:+0200
TZNAME:CEST
DTSTART:20260329T010000
END:DAYLIGHT
BEGIN:STANDARD
TZOFFSETFROM:+0200
TZOFFSETTO:+0100
TZNAME:CET
DTSTART:20261025T010000
END:STANDARD
BEGIN:DAYLIGHT
TZOFFSETFROM:+0100
TZOFFSETTO:+0200
TZNAME:CEST
DTSTART:20270328T010000
END:DAYLIGHT
BEGIN:STANDARD
TZOFFSETFROM:+0200
TZOFFSETTO:+0100
TZNAME:CET
DTSTART:20271031T010000
END:STANDARD
END:VTIMEZONE
BEGIN:VEVENT
DTSTART;TZID=Europe/Berlin:20261201T190000
DTEND;TZID=Europe/Berlin:20261201T190000
DTSTAMP:20260421T051812
CREATED:20260117T204121Z
LAST-MODIFIED:20260117T204121Z
UID:2640-1796151600-1796151600@efg-gerolstein.de
SUMMARY:Hauskreis in Steffeln
DESCRIPTION:
URL:https://efg-gerolstein.de/event/hauskreis-in-steffeln-2026-12/
LOCATION:Familie Weber\, Steffeln\, Hochstr. 4\, Steffeln\, 54597\, Deutschland
CATEGORIES:Hauskreis
END:VEVENT
BEGIN:VEVENT
DTSTART;TZID=Europe/Berlin:20261206T103000
DTEND;TZID=Europe/Berlin:20261206T103000
DTSTAMP:20260421T051812
CREATED:20260117T204149Z
LAST-MODIFIED:20260117T204307Z
UID:2642-1796553000-1796553000@efg-gerolstein.de
SUMMARY:Gottesdienst mit Abendmahl - 2. Advent
DESCRIPTION:
URL:https://efg-gerolstein.de/event/gottesdienst-2026-12/
LOCATION:Gemeinderäume\, Zum Sandborn 38a\, Gerolstein\, 54568\, Deutschland
CATEGORIES:Gottesdienst
END:VEVENT
BEGIN:VEVENT
DTSTART;TZID=Europe/Berlin:20261213T103000
DTEND;TZID=Europe/Berlin:20261213T103000
DTSTAMP:20260421T051812
CREATED:20260117T204331Z
LAST-MODIFIED:20260117T204331Z
UID:2646-1797157800-1797157800@efg-gerolstein.de
SUMMARY:Gottesdienst - 3. Advent
DESCRIPTION:
URL:https://efg-gerolstein.de/event/gottesdienst-2026-12-2/
LOCATION:Gemeinderäume\, Zum Sandborn 38a\, Gerolstein\, 54568\, Deutschland
CATEGORIES:Gottesdienst
END:VEVENT
BEGIN:VEVENT
DTSTART;TZID=Europe/Berlin:20261220T103000
DTEND;TZID=Europe/Berlin:20261220T103000
DTSTAMP:20260421T051812
CREATED:20260117T204400Z
LAST-MODIFIED:20260117T204400Z
UID:2648-1797762600-1797762600@efg-gerolstein.de
SUMMARY:Gottesdienst - 4. Advent
DESCRIPTION:
URL:https://efg-gerolstein.de/event/gottesdienst-2026-12-2-2/
LOCATION:Gemeinderäume\, Zum Sandborn 38a\, Gerolstein\, 54568\, Deutschland
CATEGORIES:Gottesdienst
END:VEVENT
BEGIN:VEVENT
DTSTART;TZID=Europe/Berlin:20261224T160000
DTEND;TZID=Europe/Berlin:20261224T160000
DTSTAMP:20260421T051812
CREATED:20260117T204516Z
LAST-MODIFIED:20260117T204703Z
UID:2652-1798128000-1798128000@efg-gerolstein.de
SUMMARY:Andacht – Heilig Abend
DESCRIPTION:
URL:https://efg-gerolstein.de/event/andacht-heilig-abend-5-2/
LOCATION:Gemeinderäume\, Zum Sandborn 38a\, Gerolstein\, 54568\, Deutschland
CATEGORIES:Gottesdienst
END:VEVENT
BEGIN:VEVENT
DTSTART;TZID=Europe/Berlin:20261227T103000
DTEND;TZID=Europe/Berlin:20261227T103000
DTSTAMP:20260421T051812
CREATED:20260117T204446Z
LAST-MODIFIED:20260117T204446Z
UID:2650-1798367400-1798367400@efg-gerolstein.de
SUMMARY:Gottesdienst
DESCRIPTION:
URL:https://efg-gerolstein.de/event/gottesdienst-2026-12-2-2-2/
LOCATION:Gemeinderäume\, Zum Sandborn 38a\, Gerolstein\, 54568\, Deutschland
CATEGORIES:Gottesdienst
END:VEVENT
END:VCALENDAR