BEGIN:VCALENDAR
VERSION:2.0
PRODID:-//EFG Gerolstein - ECPv6.15.16//NONSGML v1.0//EN
CALSCALE:GREGORIAN
METHOD:PUBLISH
X-ORIGINAL-URL:https://efg-gerolstein.de
X-WR-CALDESC:Veranstaltungen für EFG Gerolstein
REFRESH-INTERVAL;VALUE=DURATION:PT1H
X-Robots-Tag:noindex
X-PUBLISHED-TTL:PT1H
BEGIN:VTIMEZONE
TZID:Europe/Berlin
BEGIN:DAYLIGHT
TZOFFSETFROM:+0100
TZOFFSETTO:+0200
TZNAME:CEST
DTSTART:20250330T010000
END:DAYLIGHT
BEGIN:STANDARD
TZOFFSETFROM:+0200
TZOFFSETTO:+0100
TZNAME:CET
DTSTART:20251026T010000
END:STANDARD
BEGIN:DAYLIGHT
TZOFFSETFROM:+0100
TZOFFSETTO:+0200
TZNAME:CEST
DTSTART:20260329T010000
END:DAYLIGHT
BEGIN:STANDARD
TZOFFSETFROM:+0200
TZOFFSETTO:+0100
TZNAME:CET
DTSTART:20261025T010000
END:STANDARD
BEGIN:DAYLIGHT
TZOFFSETFROM:+0100
TZOFFSETTO:+0200
TZNAME:CEST
DTSTART:20270328T010000
END:DAYLIGHT
BEGIN:STANDARD
TZOFFSETFROM:+0200
TZOFFSETTO:+0100
TZNAME:CET
DTSTART:20271031T010000
END:STANDARD
END:VTIMEZONE
BEGIN:VEVENT
DTSTART;TZID=Europe/Berlin:20260301T103000
DTEND;TZID=Europe/Berlin:20260301T103000
DTSTAMP:20260420T143027
CREATED:20260117T194532Z
LAST-MODIFIED:20260117T194532Z
UID:2521-1772361000-1772361000@efg-gerolstein.de
SUMMARY:Gottesdienst mit Abendmahl
DESCRIPTION:
URL:https://efg-gerolstein.de/event/gottesdienst-mit-abendmahl-3/
LOCATION:Gemeinderäume\, Zum Sandborn 38a\, Gerolstein\, 54568\, Deutschland
CATEGORIES:Gottesdienst
END:VEVENT
BEGIN:VEVENT
DTSTART;TZID=Europe/Berlin:20260303T190000
DTEND;TZID=Europe/Berlin:20260303T190000
DTSTAMP:20260420T143027
CREATED:20260117T194855Z
LAST-MODIFIED:20260117T194855Z
UID:2533-1772564400-1772564400@efg-gerolstein.de
SUMMARY:Hauskreis in Steffeln
DESCRIPTION:
URL:https://efg-gerolstein.de/event/hauskreis-in-steffeln-20-2/
LOCATION:Familie Weber\, Steffeln\, Hochstr. 4\, Steffeln\, 54597\, Deutschland
CATEGORIES:Hauskreis
END:VEVENT
BEGIN:VEVENT
DTSTART;TZID=Europe/Berlin:20260307T090000
DTEND;TZID=Europe/Berlin:20260307T110000
DTSTAMP:20260420T143027
CREATED:20260208T150225Z
LAST-MODIFIED:20260208T150225Z
UID:2678-1772874000-1772881200@efg-gerolstein.de
SUMMARY:Frauenfrühstück in Steffeln
DESCRIPTION:Thema: „Wer hat den Regenbogen geklaut ???“
URL:https://efg-gerolstein.de/event/frauenfruehstueck-in-steffeln-2/
LOCATION:Familie Weber\, Steffeln\, Hochstr. 4\, Steffeln\, 54597\, Deutschland
CATEGORIES:Sonstiges
ATTACH;FMTTYPE=application/pdf:https://efg-gerolstein.de/wp-content/uploads/2023/03/Einladung-1.-April-2023.pdf
END:VEVENT
BEGIN:VEVENT
DTSTART;TZID=Europe/Berlin:20260308T103000
DTEND;TZID=Europe/Berlin:20260308T103000
DTSTAMP:20260420T143027
CREATED:20260117T194629Z
LAST-MODIFIED:20260208T145604Z
UID:2523-1772965800-1772965800@efg-gerolstein.de
SUMMARY:Gottesdienst & Tauffest
DESCRIPTION:
URL:https://efg-gerolstein.de/event/gottesdienst-3-2-2/
LOCATION:Gemeinderäume\, Zum Sandborn 38a\, Gerolstein\, 54568\, Deutschland
CATEGORIES:Gottesdienst
END:VEVENT
BEGIN:VEVENT
DTSTART;TZID=Europe/Berlin:20260315T103000
DTEND;TZID=Europe/Berlin:20260315T103000
DTSTAMP:20260420T143027
CREATED:20260117T194701Z
LAST-MODIFIED:20260117T194701Z
UID:2525-1773570600-1773570600@efg-gerolstein.de
SUMMARY:Gottesdienst
DESCRIPTION:
URL:https://efg-gerolstein.de/event/gottesdienst-3-2-2-2/
LOCATION:Gemeinderäume\, Zum Sandborn 38a\, Gerolstein\, 54568\, Deutschland
CATEGORIES:Gottesdienst
END:VEVENT
BEGIN:VEVENT
DTSTART;TZID=Europe/Berlin:20260317T190000
DTEND;TZID=Europe/Berlin:20260317T190000
DTSTAMP:20260420T143027
CREATED:20260117T195219Z
LAST-MODIFIED:20260117T195219Z
UID:2548-1773774000-1773774000@efg-gerolstein.de
SUMMARY:Gebetsabend
DESCRIPTION:
URL:https://efg-gerolstein.de/event/gebetsabend-11-2/
LOCATION:Gemeinderäume\, Zum Sandborn 38a\, Gerolstein\, 54568\, Deutschland
CATEGORIES:Gebet
END:VEVENT
BEGIN:VEVENT
DTSTART;TZID=Europe/Berlin:20260322T103000
DTEND;TZID=Europe/Berlin:20260322T103000
DTSTAMP:20260420T143027
CREATED:20260117T194721Z
LAST-MODIFIED:20260117T194721Z
UID:2527-1774175400-1774175400@efg-gerolstein.de
SUMMARY:Gottesdienst
DESCRIPTION:
URL:https://efg-gerolstein.de/event/gottesdienst-3-2-2-2-2/
LOCATION:Gemeinderäume\, Zum Sandborn 38a\, Gerolstein\, 54568\, Deutschland
CATEGORIES:Gottesdienst
END:VEVENT
BEGIN:VEVENT
DTSTART;TZID=Europe/Berlin:20260329T103000
DTEND;TZID=Europe/Berlin:20260329T103000
DTSTAMP:20260420T143027
CREATED:20260117T194748Z
LAST-MODIFIED:20260117T194748Z
UID:2529-1774780200-1774780200@efg-gerolstein.de
SUMMARY:Gottesdienst
DESCRIPTION:
URL:https://efg-gerolstein.de/event/gottesdienst-4/
LOCATION:Gemeinderäume\, Zum Sandborn 38a\, Gerolstein\, 54568\, Deutschland
CATEGORIES:Gottesdienst
END:VEVENT
END:VCALENDAR