BEGIN:VCALENDAR
VERSION:2.0
PRODID:-//EFG Gerolstein - ECPv6.15.16//NONSGML v1.0//EN
CALSCALE:GREGORIAN
METHOD:PUBLISH
X-WR-CALNAME:EFG Gerolstein
X-ORIGINAL-URL:https://efg-gerolstein.de
X-WR-CALDESC:Veranstaltungen für EFG Gerolstein
REFRESH-INTERVAL;VALUE=DURATION:PT1H
X-Robots-Tag:noindex
X-PUBLISHED-TTL:PT1H
BEGIN:VTIMEZONE
TZID:Europe/Berlin
BEGIN:DAYLIGHT
TZOFFSETFROM:+0100
TZOFFSETTO:+0200
TZNAME:CEST
DTSTART:20240331T010000
END:DAYLIGHT
BEGIN:STANDARD
TZOFFSETFROM:+0200
TZOFFSETTO:+0100
TZNAME:CET
DTSTART:20241027T010000
END:STANDARD
BEGIN:DAYLIGHT
TZOFFSETFROM:+0100
TZOFFSETTO:+0200
TZNAME:CEST
DTSTART:20250330T010000
END:DAYLIGHT
BEGIN:STANDARD
TZOFFSETFROM:+0200
TZOFFSETTO:+0100
TZNAME:CET
DTSTART:20251026T010000
END:STANDARD
BEGIN:DAYLIGHT
TZOFFSETFROM:+0100
TZOFFSETTO:+0200
TZNAME:CEST
DTSTART:20260329T010000
END:DAYLIGHT
BEGIN:STANDARD
TZOFFSETFROM:+0200
TZOFFSETTO:+0100
TZNAME:CET
DTSTART:20261025T010000
END:STANDARD
END:VTIMEZONE
BEGIN:VEVENT
DTSTART;TZID=Europe/Berlin:20250907T103000
DTEND;TZID=Europe/Berlin:20250907T103000
DTSTAMP:20260420T234656
CREATED:20250120T190754Z
LAST-MODIFIED:20250120T190754Z
UID:2387-1757241000-1757241000@efg-gerolstein.de
SUMMARY:Gottesdienst mit Abendmahl
DESCRIPTION:
URL:https://efg-gerolstein.de/event/gottesdienst-mit-abendmahl-100/
LOCATION:Gemeinderäume\, Zum Sandborn 38a\, Gerolstein\, 54568\, Deutschland
CATEGORIES:Gottesdienst
END:VEVENT
BEGIN:VEVENT
DTSTART;TZID=Europe/Berlin:20250909T190000
DTEND;TZID=Europe/Berlin:20250909T190000
DTSTAMP:20260420T234656
CREATED:20250830T075704Z
LAST-MODIFIED:20250830T075704Z
UID:2440-1757444400-1757444400@efg-gerolstein.de
SUMMARY:Gebetsabend
DESCRIPTION:
URL:https://efg-gerolstein.de/event/gebetsabend-10/
LOCATION:Gemeinderäume\, Zum Sandborn 38a\, Gerolstein\, 54568\, Deutschland
CATEGORIES:Gebet
END:VEVENT
BEGIN:VEVENT
DTSTART;TZID=Europe/Berlin:20250914T103000
DTEND;TZID=Europe/Berlin:20250914T103000
DTSTAMP:20260420T234656
CREATED:20250120T190835Z
LAST-MODIFIED:20250120T190835Z
UID:2389-1757845800-1757845800@efg-gerolstein.de
SUMMARY:Gottesdienst
DESCRIPTION:
URL:https://efg-gerolstein.de/event/gottesdienst-189/
LOCATION:Gemeinderäume\, Zum Sandborn 38a\, Gerolstein\, 54568\, Deutschland
CATEGORIES:Gottesdienst
END:VEVENT
BEGIN:VEVENT
DTSTART;TZID=Europe/Berlin:20250921T103000
DTEND;TZID=Europe/Berlin:20250921T103000
DTSTAMP:20260420T234656
CREATED:20250120T191013Z
LAST-MODIFIED:20250120T191013Z
UID:2391-1758450600-1758450600@efg-gerolstein.de
SUMMARY:Gottesdienst
DESCRIPTION:
URL:https://efg-gerolstein.de/event/gottesdienst-190/
LOCATION:Gemeinderäume\, Zum Sandborn 38a\, Gerolstein\, 54568\, Deutschland
CATEGORIES:Gottesdienst
END:VEVENT
BEGIN:VEVENT
DTSTART;TZID=Europe/Berlin:20250928T103000
DTEND;TZID=Europe/Berlin:20250928T103000
DTSTAMP:20260420T234656
CREATED:20250120T191058Z
LAST-MODIFIED:20250120T191058Z
UID:2393-1759055400-1759055400@efg-gerolstein.de
SUMMARY:Gottesdienst
DESCRIPTION:
URL:https://efg-gerolstein.de/event/gottesdienst-191/
LOCATION:Gemeinderäume\, Zum Sandborn 38a\, Gerolstein\, 54568\, Deutschland
CATEGORIES:Gottesdienst
END:VEVENT
END:VCALENDAR