BEGIN:VCALENDAR
VERSION:2.0
PRODID:-//EFG Gerolstein - ECPv6.15.16//NONSGML v1.0//EN
CALSCALE:GREGORIAN
METHOD:PUBLISH
X-WR-CALNAME:EFG Gerolstein
X-ORIGINAL-URL:https://efg-gerolstein.de
X-WR-CALDESC:Veranstaltungen für EFG Gerolstein
REFRESH-INTERVAL;VALUE=DURATION:PT1H
X-Robots-Tag:noindex
X-PUBLISHED-TTL:PT1H
BEGIN:VTIMEZONE
TZID:Europe/Berlin
BEGIN:DAYLIGHT
TZOFFSETFROM:+0100
TZOFFSETTO:+0200
TZNAME:CEST
DTSTART:20240331T010000
END:DAYLIGHT
BEGIN:STANDARD
TZOFFSETFROM:+0200
TZOFFSETTO:+0100
TZNAME:CET
DTSTART:20241027T010000
END:STANDARD
BEGIN:DAYLIGHT
TZOFFSETFROM:+0100
TZOFFSETTO:+0200
TZNAME:CEST
DTSTART:20250330T010000
END:DAYLIGHT
BEGIN:STANDARD
TZOFFSETFROM:+0200
TZOFFSETTO:+0100
TZNAME:CET
DTSTART:20251026T010000
END:STANDARD
BEGIN:DAYLIGHT
TZOFFSETFROM:+0100
TZOFFSETTO:+0200
TZNAME:CEST
DTSTART:20260329T010000
END:DAYLIGHT
BEGIN:STANDARD
TZOFFSETFROM:+0200
TZOFFSETTO:+0100
TZNAME:CET
DTSTART:20261025T010000
END:STANDARD
END:VTIMEZONE
BEGIN:VEVENT
DTSTART;TZID=Europe/Berlin:20250601T103000
DTEND;TZID=Europe/Berlin:20250601T103000
DTSTAMP:20260421T045451
CREATED:20250120T185135Z
LAST-MODIFIED:20250120T185135Z
UID:2357-1748773800-1748773800@efg-gerolstein.de
SUMMARY:Gottesdienst mit Abendmahl
DESCRIPTION:
URL:https://efg-gerolstein.de/event/gottesdienst-mit-abendmahl-97/
LOCATION:Gemeinderäume\, Zum Sandborn 38a\, Gerolstein\, 54568\, Deutschland
CATEGORIES:Gottesdienst
END:VEVENT
BEGIN:VEVENT
DTSTART;TZID=Europe/Berlin:20250603T200000
DTEND;TZID=Europe/Berlin:20250603T200000
DTSTAMP:20260421T045451
CREATED:20250505T043721Z
LAST-MODIFIED:20250505T043721Z
UID:2420-1748980800-1748980800@efg-gerolstein.de
SUMMARY:Hauskreis in Steffeln
DESCRIPTION:
URL:https://efg-gerolstein.de/event/hauskreis-in-steffeln-19/
LOCATION:Familie Weber\, Steffeln\, Hochstr. 4\, Steffeln\, 54597\, Deutschland
CATEGORIES:Hauskreis
END:VEVENT
BEGIN:VEVENT
DTSTART;TZID=Europe/Berlin:20250608T103000
DTEND;TZID=Europe/Berlin:20250608T103000
DTSTAMP:20260421T045451
CREATED:20250120T185246Z
LAST-MODIFIED:20250120T185246Z
UID:2359-1749378600-1749378600@efg-gerolstein.de
SUMMARY:Gottesdienst
DESCRIPTION:
URL:https://efg-gerolstein.de/event/gottesdienst-178/
LOCATION:Gemeinderäume\, Zum Sandborn 38a\, Gerolstein\, 54568\, Deutschland
CATEGORIES:Gottesdienst
END:VEVENT
BEGIN:VEVENT
DTSTART;TZID=Europe/Berlin:20250610T190000
DTEND;TZID=Europe/Berlin:20250610T190000
DTSTAMP:20260421T045451
CREATED:20250505T043627Z
LAST-MODIFIED:20250524T092555Z
UID:2418-1749582000-1749582000@efg-gerolstein.de
SUMMARY:Gebetsabend
DESCRIPTION:
URL:https://efg-gerolstein.de/event/gebetsabend-9/
LOCATION:Gemeinderäume\, Zum Sandborn 38a\, Gerolstein\, 54568\, Deutschland
CATEGORIES:Gebet
END:VEVENT
BEGIN:VEVENT
DTSTART;VALUE=DATE:20250612
DTEND;VALUE=DATE:20250616
DTSTAMP:20260421T045451
CREATED:20250418T172549Z
LAST-MODIFIED:20250418T172549Z
UID:2408-1749686400-1750031999@efg-gerolstein.de
SUMMARY:Mobiler Treffpunk in Gerolstein vom 12. - 15. Juni 20215
DESCRIPTION:
URL:https://efg-gerolstein.de/event/mobiler-treffpunk-in-gerolstein-vom-12-15-juni-20215/
LOCATION:Brunnenplatz Gerolstein\, Kyllweg\, Gerolstein\, 54568\, Deutschland
END:VEVENT
BEGIN:VEVENT
DTSTART;TZID=Europe/Berlin:20250612T193000
DTEND;TZID=Europe/Berlin:20250612T193000
DTSTAMP:20260421T045451
CREATED:20250608T071616Z
LAST-MODIFIED:20250608T072101Z
UID:2430-1749756600-1749756600@efg-gerolstein.de
SUMMARY:Themenvortrag: Ich kann nicht glauben\, weil es so viel Leid in der Welt gibt
DESCRIPTION:
URL:https://efg-gerolstein.de/event/themenvortrag-ich-kann-nicht-glauben-wei-les-so-viel-leid-in-der-welt-gibt/
CATEGORIES:Sonstiges
END:VEVENT
BEGIN:VEVENT
DTSTART;TZID=Europe/Berlin:20250613T193000
DTEND;TZID=Europe/Berlin:20250613T193000
DTSTAMP:20260421T045451
CREATED:20250608T071719Z
LAST-MODIFIED:20250608T072058Z
UID:2432-1749843000-1749843000@efg-gerolstein.de
SUMMARY:Themenvortrag: Ich kann nicht glauben\, weil jede Religion von sich behauptet die Richtige zu sein
DESCRIPTION:
URL:https://efg-gerolstein.de/event/themenvortrag-ich-kann-nicht-glauben-weil-jede-religion-von-sich-behauptet-die-richtige-zu-sein/
CATEGORIES:Sonstiges
END:VEVENT
BEGIN:VEVENT
DTSTART;TZID=Europe/Berlin:20250614T193000
DTEND;TZID=Europe/Berlin:20250614T193000
DTSTAMP:20260421T045451
CREATED:20250608T071817Z
LAST-MODIFIED:20250608T072055Z
UID:2435-1749929400-1749929400@efg-gerolstein.de
SUMMARY:Themenvortrag: Das Geschenk der Vergebung - warum Vergebung so wichtig ist
DESCRIPTION:
URL:https://efg-gerolstein.de/event/themenvortrag-das-geschenk-der-vergebung-warum-vergebung-so-wichtig-ist/
CATEGORIES:Sonstiges
END:VEVENT
BEGIN:VEVENT
DTSTART;TZID=Europe/Berlin:20250615T103000
DTEND;TZID=Europe/Berlin:20250615T103000
DTSTAMP:20260421T045451
CREATED:20250120T185312Z
LAST-MODIFIED:20250608T071936Z
UID:2361-1749983400-1749983400@efg-gerolstein.de
SUMMARY:Themen-Gottesdienst: Ausflug in den Himmel
DESCRIPTION:Wo ist der Himmel?\nWie ist der Himmel?\nWer ist im Himmel?
URL:https://efg-gerolstein.de/event/gottesdienst-179/
CATEGORIES:Gottesdienst
END:VEVENT
BEGIN:VEVENT
DTSTART;TZID=Europe/Berlin:20250622T103000
DTEND;TZID=Europe/Berlin:20250622T103000
DTSTAMP:20260421T045451
CREATED:20250120T185412Z
LAST-MODIFIED:20250120T185412Z
UID:2363-1750588200-1750588200@efg-gerolstein.de
SUMMARY:Gottesdienst
DESCRIPTION:
URL:https://efg-gerolstein.de/event/gottesdienst-180/
LOCATION:Gemeinderäume\, Zum Sandborn 38a\, Gerolstein\, 54568\, Deutschland
CATEGORIES:Gottesdienst
END:VEVENT
BEGIN:VEVENT
DTSTART;TZID=Europe/Berlin:20250629T103000
DTEND;TZID=Europe/Berlin:20250629T103000
DTSTAMP:20260421T045451
CREATED:20250120T185452Z
LAST-MODIFIED:20250120T185452Z
UID:2365-1751193000-1751193000@efg-gerolstein.de
SUMMARY:Gottesdienst
DESCRIPTION:
URL:https://efg-gerolstein.de/event/gottesdienst-181/
LOCATION:Gemeinderäume\, Zum Sandborn 38a\, Gerolstein\, 54568\, Deutschland
CATEGORIES:Gottesdienst
END:VEVENT
END:VCALENDAR