BEGIN:VCALENDAR
VERSION:2.0
PRODID:-//EFG Gerolstein - ECPv6.15.16//NONSGML v1.0//EN
CALSCALE:GREGORIAN
METHOD:PUBLISH
X-ORIGINAL-URL:https://efg-gerolstein.de
X-WR-CALDESC:Veranstaltungen für EFG Gerolstein
REFRESH-INTERVAL;VALUE=DURATION:PT1H
X-Robots-Tag:noindex
X-PUBLISHED-TTL:PT1H
BEGIN:VTIMEZONE
TZID:Europe/Berlin
BEGIN:DAYLIGHT
TZOFFSETFROM:+0100
TZOFFSETTO:+0200
TZNAME:CEST
DTSTART:20240331T010000
END:DAYLIGHT
BEGIN:STANDARD
TZOFFSETFROM:+0200
TZOFFSETTO:+0100
TZNAME:CET
DTSTART:20241027T010000
END:STANDARD
BEGIN:DAYLIGHT
TZOFFSETFROM:+0100
TZOFFSETTO:+0200
TZNAME:CEST
DTSTART:20250330T010000
END:DAYLIGHT
BEGIN:STANDARD
TZOFFSETFROM:+0200
TZOFFSETTO:+0100
TZNAME:CET
DTSTART:20251026T010000
END:STANDARD
BEGIN:DAYLIGHT
TZOFFSETFROM:+0100
TZOFFSETTO:+0200
TZNAME:CEST
DTSTART:20260329T010000
END:DAYLIGHT
BEGIN:STANDARD
TZOFFSETFROM:+0200
TZOFFSETTO:+0100
TZNAME:CET
DTSTART:20261025T010000
END:STANDARD
END:VTIMEZONE
BEGIN:VEVENT
DTSTART;TZID=Europe/Berlin:20250202T103000
DTEND;TZID=Europe/Berlin:20250202T103000
DTSTAMP:20260421T111434
CREATED:20250102T195349Z
LAST-MODIFIED:20250102T195502Z
UID:2308-1738492200-1738492200@efg-gerolstein.de
SUMMARY:Gottesdienst mit Abendmahl
DESCRIPTION:
URL:https://efg-gerolstein.de/event/gottesdienst-mit-abendmahl-93/
LOCATION:Gemeinderäume\, Zum Sandborn 38a\, Gerolstein\, 54568\, Deutschland
CATEGORIES:Gottesdienst
END:VEVENT
BEGIN:VEVENT
DTSTART;TZID=Europe/Berlin:20250204T190000
DTEND;TZID=Europe/Berlin:20250204T190000
DTSTAMP:20260421T111434
CREATED:20250120T184212Z
LAST-MODIFIED:20250120T184212Z
UID:2341-1738695600-1738695600@efg-gerolstein.de
SUMMARY:Hauskreis in Steffeln
DESCRIPTION:
URL:https://efg-gerolstein.de/event/hauskreis-in-steffeln-13/
LOCATION:Familie Weber\, Steffeln\, Hochstr. 4\, Steffeln\, 54597\, Deutschland
CATEGORIES:Hauskreis
END:VEVENT
BEGIN:VEVENT
DTSTART;TZID=Europe/Berlin:20250209T103000
DTEND;TZID=Europe/Berlin:20250209T103000
DTSTAMP:20260421T111434
CREATED:20250120T163612Z
LAST-MODIFIED:20250120T163612Z
UID:2311-1739097000-1739097000@efg-gerolstein.de
SUMMARY:Gottesdienst
DESCRIPTION:
URL:https://efg-gerolstein.de/event/gottesdienst-165/
LOCATION:Gemeinderäume\, Zum Sandborn 38a\, Gerolstein\, 54568\, Deutschland
CATEGORIES:Gottesdienst
END:VEVENT
BEGIN:VEVENT
DTSTART;TZID=Europe/Berlin:20250216T103000
DTEND;TZID=Europe/Berlin:20250216T103000
DTSTAMP:20260421T111434
CREATED:20250120T163652Z
LAST-MODIFIED:20250120T163652Z
UID:2313-1739701800-1739701800@efg-gerolstein.de
SUMMARY:Gottesdienst
DESCRIPTION:
URL:https://efg-gerolstein.de/event/gottesdienst-166/
LOCATION:Gemeinderäume\, Zum Sandborn 38a\, Gerolstein\, 54568\, Deutschland
CATEGORIES:Gottesdienst
END:VEVENT
BEGIN:VEVENT
DTSTART;TZID=Europe/Berlin:20250223T103000
DTEND;TZID=Europe/Berlin:20250223T103000
DTSTAMP:20260421T111434
CREATED:20250120T163720Z
LAST-MODIFIED:20250120T163720Z
UID:2315-1740306600-1740306600@efg-gerolstein.de
SUMMARY:Gottesdienst
DESCRIPTION:
URL:https://efg-gerolstein.de/event/gottesdienst-167/
LOCATION:Gemeinderäume\, Zum Sandborn 38a\, Gerolstein\, 54568\, Deutschland
CATEGORIES:Gottesdienst
END:VEVENT
END:VCALENDAR