BEGIN:VCALENDAR
VERSION:2.0
PRODID:-//EFG Gerolstein - ECPv6.15.16//NONSGML v1.0//EN
CALSCALE:GREGORIAN
METHOD:PUBLISH
X-ORIGINAL-URL:https://efg-gerolstein.de
X-WR-CALDESC:Veranstaltungen für EFG Gerolstein
REFRESH-INTERVAL;VALUE=DURATION:PT1H
X-Robots-Tag:noindex
X-PUBLISHED-TTL:PT1H
BEGIN:VTIMEZONE
TZID:Europe/Berlin
BEGIN:DAYLIGHT
TZOFFSETFROM:+0100
TZOFFSETTO:+0200
TZNAME:CEST
DTSTART:20240331T010000
END:DAYLIGHT
BEGIN:STANDARD
TZOFFSETFROM:+0200
TZOFFSETTO:+0100
TZNAME:CET
DTSTART:20241027T010000
END:STANDARD
BEGIN:DAYLIGHT
TZOFFSETFROM:+0100
TZOFFSETTO:+0200
TZNAME:CEST
DTSTART:20250330T010000
END:DAYLIGHT
BEGIN:STANDARD
TZOFFSETFROM:+0200
TZOFFSETTO:+0100
TZNAME:CET
DTSTART:20251026T010000
END:STANDARD
BEGIN:DAYLIGHT
TZOFFSETFROM:+0100
TZOFFSETTO:+0200
TZNAME:CEST
DTSTART:20260329T010000
END:DAYLIGHT
BEGIN:STANDARD
TZOFFSETFROM:+0200
TZOFFSETTO:+0100
TZNAME:CET
DTSTART:20261025T010000
END:STANDARD
END:VTIMEZONE
BEGIN:VEVENT
DTSTART;TZID=Europe/Berlin:20250105T103000
DTEND;TZID=Europe/Berlin:20250105T103000
DTSTAMP:20260423T125231
CREATED:20250102T194047Z
LAST-MODIFIED:20250102T194249Z
UID:2299-1736073000-1736073000@efg-gerolstein.de
SUMMARY:Gottesdienst mit Abendmahl
DESCRIPTION:
URL:https://efg-gerolstein.de/event/gottesdienst-mit-abendmahl-92/
LOCATION:Gemeinderäume\, Zum Sandborn 38a\, Gerolstein\, 54568\, Deutschland
CATEGORIES:Gottesdienst
END:VEVENT
BEGIN:VEVENT
DTSTART;TZID=Europe/Berlin:20250112T103000
DTEND;TZID=Europe/Berlin:20250112T103000
DTSTAMP:20260423T125231
CREATED:20250102T194331Z
LAST-MODIFIED:20250102T194331Z
UID:2302-1736677800-1736677800@efg-gerolstein.de
SUMMARY:Gottesdienst
DESCRIPTION:
URL:https://efg-gerolstein.de/event/gottesdienst-162/
LOCATION:Gemeinderäume\, Zum Sandborn 38a\, Gerolstein\, 54568\, Deutschland
CATEGORIES:Gottesdienst
END:VEVENT
BEGIN:VEVENT
DTSTART;TZID=Europe/Berlin:20250119T103000
DTEND;TZID=Europe/Berlin:20250119T103000
DTSTAMP:20260423T125231
CREATED:20250102T194413Z
LAST-MODIFIED:20250102T194413Z
UID:2304-1737282600-1737282600@efg-gerolstein.de
SUMMARY:Gottesdienst
DESCRIPTION:
URL:https://efg-gerolstein.de/event/gottesdienst-163/
LOCATION:Gemeinderäume\, Zum Sandborn 38a\, Gerolstein\, 54568\, Deutschland
CATEGORIES:Gottesdienst
END:VEVENT
BEGIN:VEVENT
DTSTART;TZID=Europe/Berlin:20250126T103000
DTEND;TZID=Europe/Berlin:20250126T103000
DTSTAMP:20260423T125231
CREATED:20250102T195313Z
LAST-MODIFIED:20250102T195637Z
UID:2306-1737887400-1737887400@efg-gerolstein.de
SUMMARY:Gottesdienst
DESCRIPTION:
URL:https://efg-gerolstein.de/event/gottesdienst-164/
LOCATION:Gemeinderäume\, Zum Sandborn 38a\, Gerolstein\, 54568\, Deutschland
CATEGORIES:Gottesdienst
END:VEVENT
BEGIN:VEVENT
DTSTART;TZID=Europe/Berlin:20250128T190000
DTEND;TZID=Europe/Berlin:20250128T190000
DTSTAMP:20260423T125231
CREATED:20250120T165132Z
LAST-MODIFIED:20250120T165132Z
UID:2339-1738090800-1738090800@efg-gerolstein.de
SUMMARY:Gebetsabend
DESCRIPTION:
URL:https://efg-gerolstein.de/event/gebetsabend-7/
LOCATION:Gemeinderäume\, Zum Sandborn 38a\, Gerolstein\, 54568\, Deutschland
CATEGORIES:Gebet
END:VEVENT
END:VCALENDAR