BEGIN:VCALENDAR
VERSION:2.0
PRODID:-//EFG Gerolstein - ECPv6.15.16//NONSGML v1.0//EN
CALSCALE:GREGORIAN
METHOD:PUBLISH
X-ORIGINAL-URL:https://efg-gerolstein.de
X-WR-CALDESC:Veranstaltungen für EFG Gerolstein
REFRESH-INTERVAL;VALUE=DURATION:PT1H
X-Robots-Tag:noindex
X-PUBLISHED-TTL:PT1H
BEGIN:VTIMEZONE
TZID:Europe/Berlin
BEGIN:DAYLIGHT
TZOFFSETFROM:+0100
TZOFFSETTO:+0200
TZNAME:CEST
DTSTART:20230326T010000
END:DAYLIGHT
BEGIN:STANDARD
TZOFFSETFROM:+0200
TZOFFSETTO:+0100
TZNAME:CET
DTSTART:20231029T010000
END:STANDARD
BEGIN:DAYLIGHT
TZOFFSETFROM:+0100
TZOFFSETTO:+0200
TZNAME:CEST
DTSTART:20240331T010000
END:DAYLIGHT
BEGIN:STANDARD
TZOFFSETFROM:+0200
TZOFFSETTO:+0100
TZNAME:CET
DTSTART:20241027T010000
END:STANDARD
BEGIN:DAYLIGHT
TZOFFSETFROM:+0100
TZOFFSETTO:+0200
TZNAME:CEST
DTSTART:20250330T010000
END:DAYLIGHT
BEGIN:STANDARD
TZOFFSETFROM:+0200
TZOFFSETTO:+0100
TZNAME:CET
DTSTART:20251026T010000
END:STANDARD
END:VTIMEZONE
BEGIN:VEVENT
DTSTART;TZID=Europe/Berlin:20241201T103000
DTEND;TZID=Europe/Berlin:20241201T103000
DTSTAMP:20260423T141615
CREATED:20240704T201218Z
LAST-MODIFIED:20241108T204359Z
UID:2240-1733049000-1733049000@efg-gerolstein.de
SUMMARY:Gottesdienst mit Abendmahl - 1. Advent
DESCRIPTION:
URL:https://efg-gerolstein.de/event/gottesdienst-1-advent-2/
LOCATION:Gemeinderäume\, Zum Sandborn 38a\, Gerolstein\, 54568\, Deutschland
CATEGORIES:Gottesdienst
END:VEVENT
BEGIN:VEVENT
DTSTART;TZID=Europe/Berlin:20241203T190000
DTEND;TZID=Europe/Berlin:20241203T190000
DTSTAMP:20260423T141615
CREATED:20241115T185748Z
LAST-MODIFIED:20241115T185748Z
UID:2287-1733252400-1733252400@efg-gerolstein.de
SUMMARY:Hauskreis in Steffeln
DESCRIPTION:
URL:https://efg-gerolstein.de/event/hauskreis-in-steffeln-12/
LOCATION:Familie Weber\, Steffeln\, Hochstr. 4\, Steffeln\, 54597\, Deutschland
CATEGORIES:Hauskreis
END:VEVENT
BEGIN:VEVENT
DTSTART;TZID=Europe/Berlin:20241208T103000
DTEND;TZID=Europe/Berlin:20241208T103000
DTSTAMP:20260423T141615
CREATED:20240704T201152Z
LAST-MODIFIED:20240704T201152Z
UID:2238-1733653800-1733653800@efg-gerolstein.de
SUMMARY:Gottesdienst - 2. Advent
DESCRIPTION:
URL:https://efg-gerolstein.de/event/gottesdienst-2-advent-5/
LOCATION:Gemeinderäume\, Zum Sandborn 38a\, Gerolstein\, 54568\, Deutschland
CATEGORIES:Gottesdienst
END:VEVENT
BEGIN:VEVENT
DTSTART;TZID=Europe/Berlin:20241215T103000
DTEND;TZID=Europe/Berlin:20241215T103000
DTSTAMP:20260423T141615
CREATED:20240704T201127Z
LAST-MODIFIED:20240704T201127Z
UID:2236-1734258600-1734258600@efg-gerolstein.de
SUMMARY:Gottesdienst - 3. Advent
DESCRIPTION:
URL:https://efg-gerolstein.de/event/gottesdienst-3-advent-4/
LOCATION:Gemeinderäume\, Zum Sandborn 38a\, Gerolstein\, 54568\, Deutschland
CATEGORIES:Gottesdienst
END:VEVENT
BEGIN:VEVENT
DTSTART;TZID=Europe/Berlin:20241222T103000
DTEND;TZID=Europe/Berlin:20241222T103000
DTSTAMP:20260423T141615
CREATED:20240704T201054Z
LAST-MODIFIED:20240704T201054Z
UID:2234-1734863400-1734863400@efg-gerolstein.de
SUMMARY:Gottesdienst - 4. Advent
DESCRIPTION:
URL:https://efg-gerolstein.de/event/gottesdienst-4-advent-4/
LOCATION:Gemeinderäume\, Zum Sandborn 38a\, Gerolstein\, 54568\, Deutschland
CATEGORIES:Gottesdienst
END:VEVENT
BEGIN:VEVENT
DTSTART;TZID=Europe/Berlin:20241224T160000
DTEND;TZID=Europe/Berlin:20241224T170000
DTSTAMP:20260423T141615
CREATED:20240704T201507Z
LAST-MODIFIED:20240704T201507Z
UID:2244-1735056000-1735059600@efg-gerolstein.de
SUMMARY:Andacht - Heilig Abend
DESCRIPTION:
URL:https://efg-gerolstein.de/event/andacht-heilig-abend-4/
LOCATION:Gemeinderäume\, Zum Sandborn 38a\, Gerolstein\, 54568\, Deutschland
CATEGORIES:Gottesdienst
END:VEVENT
END:VCALENDAR