BEGIN:VCALENDAR
VERSION:2.0
PRODID:-//EFG Gerolstein - ECPv6.15.16//NONSGML v1.0//EN
CALSCALE:GREGORIAN
METHOD:PUBLISH
X-ORIGINAL-URL:https://efg-gerolstein.de
X-WR-CALDESC:Veranstaltungen für EFG Gerolstein
REFRESH-INTERVAL;VALUE=DURATION:PT1H
X-Robots-Tag:noindex
X-PUBLISHED-TTL:PT1H
BEGIN:VTIMEZONE
TZID:Europe/Berlin
BEGIN:DAYLIGHT
TZOFFSETFROM:+0100
TZOFFSETTO:+0200
TZNAME:CEST
DTSTART:20230326T010000
END:DAYLIGHT
BEGIN:STANDARD
TZOFFSETFROM:+0200
TZOFFSETTO:+0100
TZNAME:CET
DTSTART:20231029T010000
END:STANDARD
BEGIN:DAYLIGHT
TZOFFSETFROM:+0100
TZOFFSETTO:+0200
TZNAME:CEST
DTSTART:20240331T010000
END:DAYLIGHT
BEGIN:STANDARD
TZOFFSETFROM:+0200
TZOFFSETTO:+0100
TZNAME:CET
DTSTART:20241027T010000
END:STANDARD
BEGIN:DAYLIGHT
TZOFFSETFROM:+0100
TZOFFSETTO:+0200
TZNAME:CEST
DTSTART:20250330T010000
END:DAYLIGHT
BEGIN:STANDARD
TZOFFSETFROM:+0200
TZOFFSETTO:+0100
TZNAME:CET
DTSTART:20251026T010000
END:STANDARD
END:VTIMEZONE
BEGIN:VEVENT
DTSTART;TZID=Europe/Berlin:20240901T103000
DTEND;TZID=Europe/Berlin:20240901T103000
DTSTAMP:20260423T185718
CREATED:20240704T200223Z
LAST-MODIFIED:20240704T200223Z
UID:2202-1725186600-1725186600@efg-gerolstein.de
SUMMARY:Gottesdienst mit Abendmahl
DESCRIPTION:
URL:https://efg-gerolstein.de/event/gottesdienst-mit-abendmahl-89/
LOCATION:Gemeinderäume\, Zum Sandborn 38a\, Gerolstein\, 54568\, Deutschland
CATEGORIES:Gottesdienst
END:VEVENT
BEGIN:VEVENT
DTSTART;TZID=Europe/Berlin:20240904T200000
DTEND;TZID=Europe/Berlin:20240904T200000
DTSTAMP:20260423T185718
CREATED:20240901T085942Z
LAST-MODIFIED:20240901T085942Z
UID:2255-1725480000-1725480000@efg-gerolstein.de
SUMMARY:Leitungskreis
DESCRIPTION:
URL:https://efg-gerolstein.de/event/leitungskreis-4/
LOCATION:Gemeinderäume\, Zum Sandborn 38a\, Gerolstein\, 54568\, Deutschland
CATEGORIES:Sonstiges
END:VEVENT
BEGIN:VEVENT
DTSTART;TZID=Europe/Berlin:20240908T103000
DTEND;TZID=Europe/Berlin:20240908T103000
DTSTAMP:20260423T185718
CREATED:20240704T200246Z
LAST-MODIFIED:20240704T200246Z
UID:2204-1725791400-1725791400@efg-gerolstein.de
SUMMARY:Gottesdienst
DESCRIPTION:
URL:https://efg-gerolstein.de/event/gottesdienst-152/
LOCATION:Gemeinderäume\, Zum Sandborn 38a\, Gerolstein\, 54568\, Deutschland
CATEGORIES:Gottesdienst
END:VEVENT
BEGIN:VEVENT
DTSTART;TZID=Europe/Berlin:20240912T190000
DTEND;TZID=Europe/Berlin:20240912T190000
DTSTAMP:20260423T185718
CREATED:20240907T200742Z
LAST-MODIFIED:20240907T200742Z
UID:2262-1726167600-1726167600@efg-gerolstein.de
SUMMARY:Gebetsabend
DESCRIPTION:
URL:https://efg-gerolstein.de/event/gebetsabend-5/
LOCATION:Gemeinderäume\, Zum Sandborn 38a\, Gerolstein\, 54568\, Deutschland
CATEGORIES:Gebet
END:VEVENT
BEGIN:VEVENT
DTSTART;TZID=Europe/Berlin:20240915T103000
DTEND;TZID=Europe/Berlin:20240915T103000
DTSTAMP:20260423T185718
CREATED:20240704T200349Z
LAST-MODIFIED:20240704T200349Z
UID:2208-1726396200-1726396200@efg-gerolstein.de
SUMMARY:Gottesdienst
DESCRIPTION:
URL:https://efg-gerolstein.de/event/gottesdienst-153/
LOCATION:Gemeinderäume\, Zum Sandborn 38a\, Gerolstein\, 54568\, Deutschland
CATEGORIES:Gottesdienst
END:VEVENT
BEGIN:VEVENT
DTSTART;TZID=Europe/Berlin:20240919T193000
DTEND;TZID=Europe/Berlin:20240919T193000
DTSTAMP:20260423T185718
CREATED:20240901T090230Z
LAST-MODIFIED:20240904T182830Z
UID:2258-1726774200-1726774200@efg-gerolstein.de
SUMMARY:Leben ist mehr - Themen-Abend mit Siegfried Skubski
DESCRIPTION:
URL:https://efg-gerolstein.de/event/leben-ist-mehr-themen-abend-mit-siegfried-skubski/
LOCATION:Gemeinderäume\, Zum Sandborn 38a\, Gerolstein\, 54568\, Deutschland
CATEGORIES:Sonstiges
END:VEVENT
BEGIN:VEVENT
DTSTART;TZID=Europe/Berlin:20240920T193000
DTEND;TZID=Europe/Berlin:20240920T193000
DTSTAMP:20260423T185718
CREATED:20240901T090253Z
LAST-MODIFIED:20240904T182800Z
UID:2260-1726860600-1726860600@efg-gerolstein.de
SUMMARY:Leben ist mehr - Themen-Abend mit Siegfried Skubski
DESCRIPTION:
URL:https://efg-gerolstein.de/event/leben-ist-mehr-themen-abend-mit-siegfried-skubski-2/
LOCATION:Gemeinderäume\, Zum Sandborn 38a\, Gerolstein\, 54568\, Deutschland
CATEGORIES:Sonstiges
END:VEVENT
BEGIN:VEVENT
DTSTART;TZID=Europe/Berlin:20240922T103000
DTEND;TZID=Europe/Berlin:20240922T103000
DTSTAMP:20260423T185718
CREATED:20240704T200412Z
LAST-MODIFIED:20240901T090051Z
UID:2210-1727001000-1727001000@efg-gerolstein.de
SUMMARY:Leben ist mehr - Themen-Gottesdienst mit Siegfried Skubski
DESCRIPTION:
URL:https://efg-gerolstein.de/event/gottesdienst-154/
LOCATION:Gemeinderäume\, Zum Sandborn 38a\, Gerolstein\, 54568\, Deutschland
CATEGORIES:Gottesdienst
END:VEVENT
BEGIN:VEVENT
DTSTART;TZID=Europe/Berlin:20240929T103000
DTEND;TZID=Europe/Berlin:20240929T103000
DTSTAMP:20260423T185718
CREATED:20240704T200437Z
LAST-MODIFIED:20240704T200437Z
UID:2212-1727605800-1727605800@efg-gerolstein.de
SUMMARY:Gottesdienst
DESCRIPTION:
URL:https://efg-gerolstein.de/event/gottesdienst-155/
LOCATION:Gemeinderäume\, Zum Sandborn 38a\, Gerolstein\, 54568\, Deutschland
CATEGORIES:Gottesdienst
END:VEVENT
END:VCALENDAR