BEGIN:VCALENDAR
VERSION:2.0
PRODID:-//EFG Gerolstein - ECPv6.15.16//NONSGML v1.0//EN
CALSCALE:GREGORIAN
METHOD:PUBLISH
X-ORIGINAL-URL:https://efg-gerolstein.de
X-WR-CALDESC:Veranstaltungen für EFG Gerolstein
REFRESH-INTERVAL;VALUE=DURATION:PT1H
X-Robots-Tag:noindex
X-PUBLISHED-TTL:PT1H
BEGIN:VTIMEZONE
TZID:Europe/Berlin
BEGIN:DAYLIGHT
TZOFFSETFROM:+0100
TZOFFSETTO:+0200
TZNAME:CEST
DTSTART:20230326T010000
END:DAYLIGHT
BEGIN:STANDARD
TZOFFSETFROM:+0200
TZOFFSETTO:+0100
TZNAME:CET
DTSTART:20231029T010000
END:STANDARD
BEGIN:DAYLIGHT
TZOFFSETFROM:+0100
TZOFFSETTO:+0200
TZNAME:CEST
DTSTART:20240331T010000
END:DAYLIGHT
BEGIN:STANDARD
TZOFFSETFROM:+0200
TZOFFSETTO:+0100
TZNAME:CET
DTSTART:20241027T010000
END:STANDARD
BEGIN:DAYLIGHT
TZOFFSETFROM:+0100
TZOFFSETTO:+0200
TZNAME:CEST
DTSTART:20250330T010000
END:DAYLIGHT
BEGIN:STANDARD
TZOFFSETFROM:+0200
TZOFFSETTO:+0100
TZNAME:CET
DTSTART:20251026T010000
END:STANDARD
END:VTIMEZONE
BEGIN:VEVENT
DTSTART;TZID=Europe/Berlin:20240804T103000
DTEND;TZID=Europe/Berlin:20240804T103000
DTSTAMP:20260423T202202
CREATED:20240704T200001Z
LAST-MODIFIED:20240704T200001Z
UID:2191-1722767400-1722767400@efg-gerolstein.de
SUMMARY:Gottesdienst mit Abendmahl
DESCRIPTION:
URL:https://efg-gerolstein.de/event/gottesdienst-mit-abendmahl-88/
LOCATION:Gemeinderäume\, Zum Sandborn 38a\, Gerolstein\, 54568\, Deutschland
CATEGORIES:Gottesdienst
END:VEVENT
BEGIN:VEVENT
DTSTART;TZID=Europe/Berlin:20240811T103000
DTEND;TZID=Europe/Berlin:20240811T103000
DTSTAMP:20260423T202202
CREATED:20240704T200103Z
LAST-MODIFIED:20240704T200103Z
UID:2195-1723372200-1723372200@efg-gerolstein.de
SUMMARY:Gottesdienst
DESCRIPTION:
URL:https://efg-gerolstein.de/event/gottesdienst-149/
LOCATION:Gemeinderäume\, Zum Sandborn 38a\, Gerolstein\, 54568\, Deutschland
CATEGORIES:Gottesdienst
END:VEVENT
BEGIN:VEVENT
DTSTART;TZID=Europe/Berlin:20240818T103000
DTEND;TZID=Europe/Berlin:20240818T103000
DTSTAMP:20260423T202202
CREATED:20240704T200124Z
LAST-MODIFIED:20240704T200124Z
UID:2197-1723977000-1723977000@efg-gerolstein.de
SUMMARY:Gottesdienst
DESCRIPTION:
URL:https://efg-gerolstein.de/event/gottesdienst-150/
LOCATION:Gemeinderäume\, Zum Sandborn 38a\, Gerolstein\, 54568\, Deutschland
CATEGORIES:Gottesdienst
END:VEVENT
BEGIN:VEVENT
DTSTART;TZID=Europe/Berlin:20240825T103000
DTEND;TZID=Europe/Berlin:20240825T103000
DTSTAMP:20260423T202202
CREATED:20240704T200158Z
LAST-MODIFIED:20240704T200158Z
UID:2200-1724581800-1724581800@efg-gerolstein.de
SUMMARY:Gottesdienst
DESCRIPTION:
URL:https://efg-gerolstein.de/event/gottesdienst-151/
LOCATION:Gemeinderäume\, Zum Sandborn 38a\, Gerolstein\, 54568\, Deutschland
CATEGORIES:Gottesdienst
END:VEVENT
END:VCALENDAR