BEGIN:VCALENDAR
VERSION:2.0
PRODID:-//EFG Gerolstein - ECPv6.15.16//NONSGML v1.0//EN
CALSCALE:GREGORIAN
METHOD:PUBLISH
X-ORIGINAL-URL:https://efg-gerolstein.de
X-WR-CALDESC:Veranstaltungen für EFG Gerolstein
REFRESH-INTERVAL;VALUE=DURATION:PT1H
X-Robots-Tag:noindex
X-PUBLISHED-TTL:PT1H
BEGIN:VTIMEZONE
TZID:Europe/Berlin
BEGIN:DAYLIGHT
TZOFFSETFROM:+0100
TZOFFSETTO:+0200
TZNAME:CEST
DTSTART:20230326T010000
END:DAYLIGHT
BEGIN:STANDARD
TZOFFSETFROM:+0200
TZOFFSETTO:+0100
TZNAME:CET
DTSTART:20231029T010000
END:STANDARD
BEGIN:DAYLIGHT
TZOFFSETFROM:+0100
TZOFFSETTO:+0200
TZNAME:CEST
DTSTART:20240331T010000
END:DAYLIGHT
BEGIN:STANDARD
TZOFFSETFROM:+0200
TZOFFSETTO:+0100
TZNAME:CET
DTSTART:20241027T010000
END:STANDARD
BEGIN:DAYLIGHT
TZOFFSETFROM:+0100
TZOFFSETTO:+0200
TZNAME:CEST
DTSTART:20250330T010000
END:DAYLIGHT
BEGIN:STANDARD
TZOFFSETFROM:+0200
TZOFFSETTO:+0100
TZNAME:CET
DTSTART:20251026T010000
END:STANDARD
END:VTIMEZONE
BEGIN:VEVENT
DTSTART;TZID=Europe/Berlin:20240303T103000
DTEND;TZID=Europe/Berlin:20240303T103000
DTSTAMP:20260424T040747
CREATED:20240114T080926Z
LAST-MODIFIED:20240114T081008Z
UID:2129-1709461800-1709461800@efg-gerolstein.de
SUMMARY:Gottesdienst mit Abendmahl
DESCRIPTION:
URL:https://efg-gerolstein.de/event/gottesdienst-133-2/
LOCATION:Gemeinderäume\, Zum Sandborn 38a\, Gerolstein\, 54568\, Deutschland
CATEGORIES:Gottesdienst
END:VEVENT
BEGIN:VEVENT
DTSTART;TZID=Europe/Berlin:20240305T190000
DTEND;TZID=Europe/Berlin:20240305T200000
DTSTAMP:20260424T040747
CREATED:20240218T090227Z
LAST-MODIFIED:20240218T090227Z
UID:2137-1709665200-1709668800@efg-gerolstein.de
SUMMARY:Hauskreis in Steffeln
DESCRIPTION:
URL:https://efg-gerolstein.de/event/hauskreis-in-steffeln-7/
LOCATION:Familie Weber\, Steffeln\, Hochstr. 4\, Steffeln\, 54597\, Deutschland
CATEGORIES:Hauskreis
END:VEVENT
BEGIN:VEVENT
DTSTART;TZID=Europe/Berlin:20240310T103000
DTEND;TZID=Europe/Berlin:20240310T103000
DTSTAMP:20260424T040747
CREATED:20240114T080956Z
LAST-MODIFIED:20240114T080956Z
UID:2131-1710066600-1710066600@efg-gerolstein.de
SUMMARY:Gottesdienst
DESCRIPTION:
URL:https://efg-gerolstein.de/event/gottesdienst-133-2-2/
LOCATION:Gemeinderäume\, Zum Sandborn 38a\, Gerolstein\, 54568\, Deutschland
CATEGORIES:Gottesdienst
END:VEVENT
BEGIN:VEVENT
DTSTART;TZID=Europe/Berlin:20240317T103000
DTEND;TZID=Europe/Berlin:20240317T103000
DTSTAMP:20260424T040747
CREATED:20240218T090332Z
LAST-MODIFIED:20240218T090332Z
UID:2139-1710671400-1710671400@efg-gerolstein.de
SUMMARY:Gottesdienst
DESCRIPTION:
URL:https://efg-gerolstein.de/event/gottesdienst-134/
CATEGORIES:Gottesdienst
END:VEVENT
BEGIN:VEVENT
DTSTART;TZID=Europe/Berlin:20240324T103000
DTEND;TZID=Europe/Berlin:20240324T103000
DTSTAMP:20260424T040747
CREATED:20240218T090358Z
LAST-MODIFIED:20240218T090358Z
UID:2141-1711276200-1711276200@efg-gerolstein.de
SUMMARY:Gottesdienst
DESCRIPTION:
URL:https://efg-gerolstein.de/event/gottesdienst-135/
CATEGORIES:Gottesdienst
END:VEVENT
BEGIN:VEVENT
DTSTART;TZID=Europe/Berlin:20240331T103000
DTEND;TZID=Europe/Berlin:20240331T103000
DTSTAMP:20260424T040747
CREATED:20240218T090422Z
LAST-MODIFIED:20240218T090422Z
UID:2143-1711881000-1711881000@efg-gerolstein.de
SUMMARY:Gottesdienst
DESCRIPTION:
URL:https://efg-gerolstein.de/event/gottesdienst-136/
LOCATION:Gemeinderäume\, Zum Sandborn 38a\, Gerolstein\, 54568\, Deutschland
CATEGORIES:Gottesdienst
END:VEVENT
END:VCALENDAR