BEGIN:VCALENDAR
VERSION:2.0
PRODID:-//EFG Gerolstein - ECPv6.15.16//NONSGML v1.0//EN
CALSCALE:GREGORIAN
METHOD:PUBLISH
X-WR-CALNAME:EFG Gerolstein
X-ORIGINAL-URL:https://efg-gerolstein.de
X-WR-CALDESC:Veranstaltungen für EFG Gerolstein
REFRESH-INTERVAL;VALUE=DURATION:PT1H
X-Robots-Tag:noindex
X-PUBLISHED-TTL:PT1H
BEGIN:VTIMEZONE
TZID:Europe/Berlin
BEGIN:DAYLIGHT
TZOFFSETFROM:+0100
TZOFFSETTO:+0200
TZNAME:CEST
DTSTART:20220327T010000
END:DAYLIGHT
BEGIN:STANDARD
TZOFFSETFROM:+0200
TZOFFSETTO:+0100
TZNAME:CET
DTSTART:20221030T010000
END:STANDARD
BEGIN:DAYLIGHT
TZOFFSETFROM:+0100
TZOFFSETTO:+0200
TZNAME:CEST
DTSTART:20230326T010000
END:DAYLIGHT
BEGIN:STANDARD
TZOFFSETFROM:+0200
TZOFFSETTO:+0100
TZNAME:CET
DTSTART:20231029T010000
END:STANDARD
BEGIN:DAYLIGHT
TZOFFSETFROM:+0100
TZOFFSETTO:+0200
TZNAME:CEST
DTSTART:20240331T010000
END:DAYLIGHT
BEGIN:STANDARD
TZOFFSETFROM:+0200
TZOFFSETTO:+0100
TZNAME:CET
DTSTART:20241027T010000
END:STANDARD
END:VTIMEZONE
BEGIN:VEVENT
DTSTART;TZID=Europe/Berlin:20230401T090000
DTEND;TZID=Europe/Berlin:20230401T110000
DTSTAMP:20260424T204509
CREATED:20230323T075224Z
LAST-MODIFIED:20230326T191024Z
UID:1928-1680339600-1680346800@efg-gerolstein.de
SUMMARY:Frauenfrühstück in Steffeln
DESCRIPTION:Thema: „Reden ist Silber\, Schweigen ist Gold ?!“ – Die Macht der Zunge
URL:https://efg-gerolstein.de/event/frauenfruehstueck-in-steffeln/
LOCATION:Familie Weber\, Steffeln\, Hochstr. 4\, Steffeln\, 54597\, Deutschland
CATEGORIES:Sonstiges
ATTACH;FMTTYPE=application/pdf:https://efg-gerolstein.de/wp-content/uploads/2023/03/Einladung-1.-April-2023.pdf
END:VEVENT
BEGIN:VEVENT
DTSTART;TZID=Europe/Berlin:20230402T103000
DTEND;TZID=Europe/Berlin:20230402T103000
DTSTAMP:20260424T204509
CREATED:20230323T071605Z
LAST-MODIFIED:20230326T191831Z
UID:1918-1680431400-1680431400@efg-gerolstein.de
SUMMARY:Gottesdienst mit Abendmahl
DESCRIPTION:
URL:https://efg-gerolstein.de/event/gottesdienst-mit-abendmahl-75/
LOCATION:Gemeinderäume\, Zum Sandborn 38a\, Gerolstein\, 54568\, Deutschland
CATEGORIES:Gottesdienst
END:VEVENT
BEGIN:VEVENT
DTSTART;TZID=Europe/Berlin:20230404T190000
DTEND;TZID=Europe/Berlin:20230404T190000
DTSTAMP:20260424T204509
CREATED:20230326T190311Z
LAST-MODIFIED:20230326T190657Z
UID:1993-1680634800-1680634800@efg-gerolstein.de
SUMMARY:Hauskreis in Steffeln
DESCRIPTION:
URL:https://efg-gerolstein.de/event/hauskreis-in-steffeln/
LOCATION:Familie Weber\, Steffeln\, Hochstr. 4\, Steffeln\, 54597\, Deutschland
CATEGORIES:Hauskreis
END:VEVENT
BEGIN:VEVENT
DTSTART;TZID=Europe/Berlin:20230407T103000
DTEND;TZID=Europe/Berlin:20230407T103000
DTSTAMP:20260424T204509
CREATED:20230326T205121Z
LAST-MODIFIED:20230326T205121Z
UID:2013-1680863400-1680863400@efg-gerolstein.de
SUMMARY:Karfreitag - Gottesdienst
DESCRIPTION:
URL:https://efg-gerolstein.de/event/karfreitag-gottesdienst/
LOCATION:Gemeinderäume\, Zum Sandborn 38a\, Gerolstein\, 54568\, Deutschland
CATEGORIES:Gottesdienst
END:VEVENT
BEGIN:VEVENT
DTSTART;TZID=Europe/Berlin:20230409T103000
DTEND;TZID=Europe/Berlin:20230409T103000
DTSTAMP:20260424T204509
CREATED:20230323T071625Z
LAST-MODIFIED:20230326T205204Z
UID:1920-1681036200-1681036200@efg-gerolstein.de
SUMMARY:Ostergottesdienst
DESCRIPTION:
URL:https://efg-gerolstein.de/event/gottesdienst-101/
LOCATION:Gemeinderäume\, Zum Sandborn 38a\, Gerolstein\, 54568\, Deutschland
CATEGORIES:Gottesdienst
END:VEVENT
BEGIN:VEVENT
DTSTART;TZID=Europe/Berlin:20230416T103000
DTEND;TZID=Europe/Berlin:20230416T103000
DTSTAMP:20260424T204509
CREATED:20230323T071645Z
LAST-MODIFIED:20230326T192740Z
UID:1922-1681641000-1681641000@efg-gerolstein.de
SUMMARY:Gottesdienst
DESCRIPTION:
URL:https://efg-gerolstein.de/event/gottesdienst-102/
LOCATION:Gemeinderäume\, Zum Sandborn 38a\, Gerolstein\, 54568\, Deutschland
CATEGORIES:Gottesdienst
END:VEVENT
BEGIN:VEVENT
DTSTART;TZID=Europe/Berlin:20230423T103000
DTEND;TZID=Europe/Berlin:20230423T103000
DTSTAMP:20260424T204509
CREATED:20230323T071707Z
LAST-MODIFIED:20230326T192751Z
UID:1924-1682245800-1682245800@efg-gerolstein.de
SUMMARY:Gottesdienst
DESCRIPTION:
URL:https://efg-gerolstein.de/event/gottesdienst-103/
LOCATION:Gemeinderäume\, Zum Sandborn 38a\, Gerolstein\, 54568\, Deutschland
CATEGORIES:Gottesdienst
END:VEVENT
BEGIN:VEVENT
DTSTART;TZID=Europe/Berlin:20230426T190000
DTEND;TZID=Europe/Berlin:20230426T190000
DTSTAMP:20260424T204509
CREATED:20230326T102452Z
LAST-MODIFIED:20230326T192800Z
UID:1991-1682535600-1682535600@efg-gerolstein.de
SUMMARY:Mitarbeiterkreis
DESCRIPTION:
URL:https://efg-gerolstein.de/event/mitarbeiterkreis/
LOCATION:Gemeinderäume\, Zum Sandborn 38a\, Gerolstein\, 54568\, Deutschland
CATEGORIES:Sonstiges
END:VEVENT
BEGIN:VEVENT
DTSTART;TZID=Europe/Berlin:20230427T200000
DTEND;TZID=Europe/Berlin:20230427T200000
DTSTAMP:20260424T204509
CREATED:20230323T181124Z
LAST-MODIFIED:20230326T192808Z
UID:1941-1682625600-1682625600@efg-gerolstein.de
SUMMARY:Leitungskreis
DESCRIPTION:
URL:https://efg-gerolstein.de/event/leitungskreis-3/
LOCATION:Gemeinderäume\, Zum Sandborn 38a\, Gerolstein\, 54568\, Deutschland
CATEGORIES:Sonstiges
END:VEVENT
BEGIN:VEVENT
DTSTART;TZID=Europe/Berlin:20230430T103000
DTEND;TZID=Europe/Berlin:20230430T103000
DTSTAMP:20260424T204509
CREATED:20230323T071727Z
LAST-MODIFIED:20230326T192816Z
UID:1926-1682850600-1682850600@efg-gerolstein.de
SUMMARY:Gottesdienst
DESCRIPTION:
URL:https://efg-gerolstein.de/event/gottesdienst-104/
LOCATION:Gemeinderäume\, Zum Sandborn 38a\, Gerolstein\, 54568\, Deutschland
CATEGORIES:Gottesdienst
END:VEVENT
BEGIN:VEVENT
DTSTART;TZID=Europe/Berlin:20230430T123000
DTEND;TZID=Europe/Berlin:20230430T123000
DTSTAMP:20260424T204509
CREATED:20230323T075324Z
LAST-MODIFIED:20230326T193026Z
UID:1932-1682857800-1682857800@efg-gerolstein.de
SUMMARY:Mitgliederversammlung
DESCRIPTION:
URL:https://efg-gerolstein.de/event/mitgliederversammlung-2/
LOCATION:Gemeinderäume\, Zum Sandborn 38a\, Gerolstein\, 54568\, Deutschland
CATEGORIES:Sonstiges
END:VEVENT
END:VCALENDAR