BEGIN:VCALENDAR
VERSION:2.0
PRODID:-//EFG Gerolstein - ECPv6.15.16//NONSGML v1.0//EN
CALSCALE:GREGORIAN
METHOD:PUBLISH
X-ORIGINAL-URL:https://efg-gerolstein.de
X-WR-CALDESC:Veranstaltungen für EFG Gerolstein
REFRESH-INTERVAL;VALUE=DURATION:PT1H
X-Robots-Tag:noindex
X-PUBLISHED-TTL:PT1H
BEGIN:VTIMEZONE
TZID:Europe/Berlin
BEGIN:DAYLIGHT
TZOFFSETFROM:+0100
TZOFFSETTO:+0200
TZNAME:CEST
DTSTART:20220327T010000
END:DAYLIGHT
BEGIN:STANDARD
TZOFFSETFROM:+0200
TZOFFSETTO:+0100
TZNAME:CET
DTSTART:20221030T010000
END:STANDARD
BEGIN:DAYLIGHT
TZOFFSETFROM:+0100
TZOFFSETTO:+0200
TZNAME:CEST
DTSTART:20230326T010000
END:DAYLIGHT
BEGIN:STANDARD
TZOFFSETFROM:+0200
TZOFFSETTO:+0100
TZNAME:CET
DTSTART:20231029T010000
END:STANDARD
BEGIN:DAYLIGHT
TZOFFSETFROM:+0100
TZOFFSETTO:+0200
TZNAME:CEST
DTSTART:20240331T010000
END:DAYLIGHT
BEGIN:STANDARD
TZOFFSETFROM:+0200
TZOFFSETTO:+0100
TZNAME:CET
DTSTART:20241027T010000
END:STANDARD
END:VTIMEZONE
BEGIN:VEVENT
DTSTART;TZID=Europe/Berlin:20230305T103000
DTEND;TZID=Europe/Berlin:20230305T103000
DTSTAMP:20260424T220912
CREATED:20230323T070903Z
LAST-MODIFIED:20230323T070903Z
UID:1910-1678012200-1678012200@efg-gerolstein.de
SUMMARY:Gottesdienst mit Abendmahl
DESCRIPTION:
URL:https://efg-gerolstein.de/event/gottesdienst-mit-abendmahl-74/
CATEGORIES:Gottesdienst
END:VEVENT
BEGIN:VEVENT
DTSTART;TZID=Europe/Berlin:20230312T103000
DTEND;TZID=Europe/Berlin:20230312T103000
DTSTAMP:20260424T220912
CREATED:20230323T070927Z
LAST-MODIFIED:20230323T070927Z
UID:1912-1678617000-1678617000@efg-gerolstein.de
SUMMARY:Gottesdienst
DESCRIPTION:
URL:https://efg-gerolstein.de/event/gottesdienst-98/
CATEGORIES:Gottesdienst
END:VEVENT
BEGIN:VEVENT
DTSTART;TZID=Europe/Berlin:20230315T200000
DTEND;TZID=Europe/Berlin:20230315T200000
DTSTAMP:20260424T220912
CREATED:20230323T180556Z
LAST-MODIFIED:20230323T180556Z
UID:1936-1678910400-1678910400@efg-gerolstein.de
SUMMARY:Mitarbeitertreffen
DESCRIPTION:
URL:https://efg-gerolstein.de/event/mitarbeitertreffen/
END:VEVENT
BEGIN:VEVENT
DTSTART;TZID=Europe/Berlin:20230319T103000
DTEND;TZID=Europe/Berlin:20230319T103000
DTSTAMP:20260424T220912
CREATED:20230323T070944Z
LAST-MODIFIED:20230323T070944Z
UID:1914-1679221800-1679221800@efg-gerolstein.de
SUMMARY:Gottesdienst
DESCRIPTION:
URL:https://efg-gerolstein.de/event/gottesdienst-99/
END:VEVENT
BEGIN:VEVENT
DTSTART;TZID=Europe/Berlin:20230322T200000
DTEND;TZID=Europe/Berlin:20230322T200000
DTSTAMP:20260424T220912
CREATED:20230323T180510Z
LAST-MODIFIED:20230323T202659Z
UID:1934-1679515200-1679515200@efg-gerolstein.de
SUMMARY:Leitungskreis
DESCRIPTION:
URL:https://efg-gerolstein.de/event/leitungskreis-2/
CATEGORIES:Sonstiges
END:VEVENT
BEGIN:VEVENT
DTSTART;TZID=Europe/Berlin:20230326T103000
DTEND;TZID=Europe/Berlin:20230326T103000
DTSTAMP:20260424T220912
CREATED:20230323T071000Z
LAST-MODIFIED:20230323T071000Z
UID:1916-1679826600-1679826600@efg-gerolstein.de
SUMMARY:Gottesdienst
DESCRIPTION:
URL:https://efg-gerolstein.de/event/gottesdienst-100/
CATEGORIES:Gottesdienst
END:VEVENT
BEGIN:VEVENT
DTSTART;TZID=Europe/Berlin:20230326T123000
DTEND;TZID=Europe/Berlin:20230326T123000
DTSTAMP:20260424T220912
CREATED:20230323T075303Z
LAST-MODIFIED:20230323T202650Z
UID:1930-1679833800-1679833800@efg-gerolstein.de
SUMMARY:Mitgliederversammlung
DESCRIPTION:
URL:https://efg-gerolstein.de/event/mitgliederversammlung/
CATEGORIES:Sonstiges
END:VEVENT
END:VCALENDAR