BEGIN:VCALENDAR
VERSION:2.0
PRODID:-//EFG Gerolstein - ECPv6.15.16//NONSGML v1.0//EN
CALSCALE:GREGORIAN
METHOD:PUBLISH
X-ORIGINAL-URL:https://efg-gerolstein.de
X-WR-CALDESC:Veranstaltungen für EFG Gerolstein
REFRESH-INTERVAL;VALUE=DURATION:PT1H
X-Robots-Tag:noindex
X-PUBLISHED-TTL:PT1H
BEGIN:VTIMEZONE
TZID:Europe/Berlin
BEGIN:DAYLIGHT
TZOFFSETFROM:+0100
TZOFFSETTO:+0200
TZNAME:CEST
DTSTART:20210328T010000
END:DAYLIGHT
BEGIN:STANDARD
TZOFFSETFROM:+0200
TZOFFSETTO:+0100
TZNAME:CET
DTSTART:20211031T010000
END:STANDARD
BEGIN:DAYLIGHT
TZOFFSETFROM:+0100
TZOFFSETTO:+0200
TZNAME:CEST
DTSTART:20220327T010000
END:DAYLIGHT
BEGIN:STANDARD
TZOFFSETFROM:+0200
TZOFFSETTO:+0100
TZNAME:CET
DTSTART:20221030T010000
END:STANDARD
BEGIN:DAYLIGHT
TZOFFSETFROM:+0100
TZOFFSETTO:+0200
TZNAME:CEST
DTSTART:20230326T010000
END:DAYLIGHT
BEGIN:STANDARD
TZOFFSETFROM:+0200
TZOFFSETTO:+0100
TZNAME:CET
DTSTART:20231029T010000
END:STANDARD
END:VTIMEZONE
BEGIN:VEVENT
DTSTART;TZID=Europe/Berlin:20221204T103000
DTEND;TZID=Europe/Berlin:20221204T103000
DTSTAMP:20260425T030105
CREATED:20221218T103930Z
LAST-MODIFIED:20221218T103930Z
UID:1878-1670149800-1670149800@efg-gerolstein.de
SUMMARY:Gottesdienst 2. Advent
DESCRIPTION:
URL:https://efg-gerolstein.de/event/gottesdienst-2-advent-3/
CATEGORIES:Gottesdienst
END:VEVENT
BEGIN:VEVENT
DTSTART;TZID=Europe/Berlin:20221211T103000
DTEND;TZID=Europe/Berlin:20221211T103000
DTSTAMP:20260425T030105
CREATED:20221218T103741Z
LAST-MODIFIED:20221218T103741Z
UID:1876-1670754600-1670754600@efg-gerolstein.de
SUMMARY:Gottesdienst 3. Advent
DESCRIPTION:
URL:https://efg-gerolstein.de/event/gottesdienst-3-advent-2/
CATEGORIES:Gottesdienst
END:VEVENT
BEGIN:VEVENT
DTSTART;TZID=Europe/Berlin:20221218T103000
DTEND;TZID=Europe/Berlin:20221218T103000
DTSTAMP:20260425T030105
CREATED:20221218T103719Z
LAST-MODIFIED:20221218T103719Z
UID:1874-1671359400-1671359400@efg-gerolstein.de
SUMMARY:Gottesdienst 4. Advent
DESCRIPTION:
URL:https://efg-gerolstein.de/event/gottesdienst-4-advent-2/
CATEGORIES:Gottesdienst
END:VEVENT
BEGIN:VEVENT
DTSTART;TZID=Europe/Berlin:20221224T160000
DTEND;TZID=Europe/Berlin:20221224T170000
DTSTAMP:20260425T030105
CREATED:20221218T102805Z
LAST-MODIFIED:20221218T102805Z
UID:1867-1671897600-1671901200@efg-gerolstein.de
SUMMARY:Andacht - Heilig Abend
DESCRIPTION:
URL:https://efg-gerolstein.de/event/andacht-heilig-abend-3/
LOCATION:Gemeinderäume\, Zum Sandborn 38a\, Gerolstein\, 54568\, Deutschland
END:VEVENT
BEGIN:VEVENT
DTSTART;TZID=Europe/Berlin:20221225T103000
DTEND;TZID=Europe/Berlin:20221225T103000
DTSTAMP:20260425T030105
CREATED:20221218T103345Z
LAST-MODIFIED:20221218T103345Z
UID:1869-1671964200-1671964200@efg-gerolstein.de
SUMMARY:Weihnachtsgottesdienst
DESCRIPTION:
URL:https://efg-gerolstein.de/event/weihnachtsgottesdienst-3/
CATEGORIES:Gottesdienst
END:VEVENT
END:VCALENDAR